BEGIN:VCALENDAR
VERSION:2.0
PRODID:-//This Is South West - ECPv6.15.20//NONSGML v1.0//EN
CALSCALE:GREGORIAN
METHOD:PUBLISH
X-ORIGINAL-URL:https://thisissouthwest.com
X-WR-CALDESC:Events for This Is South West
REFRESH-INTERVAL;VALUE=DURATION:PT1H
X-Robots-Tag:noindex
X-PUBLISHED-TTL:PT1H
BEGIN:VTIMEZONE
TZID:Europe/London
BEGIN:DAYLIGHT
TZOFFSETFROM:+0000
TZOFFSETTO:+0100
TZNAME:BST
DTSTART:20240331T010000
END:DAYLIGHT
BEGIN:STANDARD
TZOFFSETFROM:+0100
TZOFFSETTO:+0000
TZNAME:GMT
DTSTART:20241027T010000
END:STANDARD
BEGIN:DAYLIGHT
TZOFFSETFROM:+0000
TZOFFSETTO:+0100
TZNAME:BST
DTSTART:20250330T010000
END:DAYLIGHT
BEGIN:STANDARD
TZOFFSETFROM:+0100
TZOFFSETTO:+0000
TZNAME:GMT
DTSTART:20251026T010000
END:STANDARD
BEGIN:DAYLIGHT
TZOFFSETFROM:+0000
TZOFFSETTO:+0100
TZNAME:BST
DTSTART:20260329T010000
END:DAYLIGHT
BEGIN:STANDARD
TZOFFSETFROM:+0100
TZOFFSETTO:+0000
TZNAME:GMT
DTSTART:20261025T010000
END:STANDARD
BEGIN:DAYLIGHT
TZOFFSETFROM:+0000
TZOFFSETTO:+0100
TZNAME:BST
DTSTART:20270328T010000
END:DAYLIGHT
BEGIN:STANDARD
TZOFFSETFROM:+0100
TZOFFSETTO:+0000
TZNAME:GMT
DTSTART:20271031T010000
END:STANDARD
END:VTIMEZONE
BEGIN:VEVENT
DTSTART;TZID=Europe/London:20260321T190000
DTEND;TZID=Europe/London:20260321T213000
DTSTAMP:20260425T050943
CREATED:20260212T102038Z
LAST-MODIFIED:20260212T102038Z
UID:10009877-1774119600-1774128600@thisissouthwest.com
SUMMARY:Torbay Singers Concert 'Visions of Peace'
DESCRIPTION:Torbay Singers choral concert conducted by Natthew Cann with Devon Amici orchestra led by Julie Hill. Performing Karl Jenkins;’ The Armed Man’\, Michael Tippet’s Five Spirituals and other pieces on the broad theme of peace.
URL:https://thisissouthwest.com/event/torbay-singers-concert-visions-of-peace/
LOCATION:Abbotsbury Church Newton Abbot TQ12 2ND\, Waverley Road\, Newton Abbot\, TQ12 2ND\, United Kingdom
CATEGORIES:Concert
ATTACH;FMTTYPE=image/jpeg:https://thisissouthwest.com/wp-content/uploads/2026/02/Visions-of-Peace-concert.jpg
END:VEVENT
BEGIN:VEVENT
DTSTART;TZID=Europe/London:20260123T190000
DTEND;TZID=Europe/London:20260123T190000
DTSTAMP:20260425T050943
CREATED:20250829T155108Z
LAST-MODIFIED:20250914T075346Z
UID:10001118-1769194800-1769194800@thisissouthwest.com
SUMMARY:Absolute Bowie
DESCRIPTION:Celebrate the Starman’s legacy with an acclaimed live tribute. Disclaimer: Event details are provided for general information & may change without notice. Please check with organisers before attending.
URL:https://thisissouthwest.com/event/absolute-bowie/
LOCATION:O2 Academey\, Bristol\, United Kingdom
CATEGORIES:Concert
END:VEVENT
BEGIN:VEVENT
DTSTART;TZID=Europe/London:20251115T000000
DTEND;TZID=Europe/London:20251115T235959
DTSTAMP:20260425T050943
CREATED:20250829T102809Z
LAST-MODIFIED:20250915T135605Z
UID:10004575-1763164800-1763251199@thisissouthwest.com
SUMMARY:Bath Mozartfest 2025
DESCRIPTION:Bath Mozartfest returns from 7 to 15 November 2025\, bringing nine days of exquisite classical music to venues across Bath including The Forum\, Guildhall\, St Mary’s\, Bathwick\, and Bath Abbey. Audiences can expect performances from world-renowned artists and ensembles such as The Hallé\, Nash Ensemble\, Tenebrae\, and new rising talent featured in BBC Radio 3 New Generation Artists. The programme mixes chamber music\, orchestral works\, solo recitals\, and thematic concerts in Bath’s beautiful historic settings.
URL:https://thisissouthwest.com/event/bath-mozartfest-2025/2025-11-15/
LOCATION:Bath\, Bath\, Somerset\, United Kingdom
CATEGORIES:Concert,Music
END:VEVENT
BEGIN:VEVENT
DTSTART;TZID=Europe/London:20251114T000000
DTEND;TZID=Europe/London:20251114T235959
DTSTAMP:20260425T050943
CREATED:20250829T102809Z
LAST-MODIFIED:20250915T135605Z
UID:10004574-1763078400-1763164799@thisissouthwest.com
SUMMARY:Bath Mozartfest 2025
DESCRIPTION:Bath Mozartfest returns from 7 to 15 November 2025\, bringing nine days of exquisite classical music to venues across Bath including The Forum\, Guildhall\, St Mary’s\, Bathwick\, and Bath Abbey. Audiences can expect performances from world-renowned artists and ensembles such as The Hallé\, Nash Ensemble\, Tenebrae\, and new rising talent featured in BBC Radio 3 New Generation Artists. The programme mixes chamber music\, orchestral works\, solo recitals\, and thematic concerts in Bath’s beautiful historic settings.
URL:https://thisissouthwest.com/event/bath-mozartfest-2025/2025-11-14/
LOCATION:Bath\, Bath\, Somerset\, United Kingdom
CATEGORIES:Concert,Music
END:VEVENT
BEGIN:VEVENT
DTSTART;TZID=Europe/London:20251113T000000
DTEND;TZID=Europe/London:20251113T235959
DTSTAMP:20260425T050943
CREATED:20250829T102809Z
LAST-MODIFIED:20250915T135605Z
UID:10004573-1762992000-1763078399@thisissouthwest.com
SUMMARY:Bath Mozartfest 2025
DESCRIPTION:Bath Mozartfest returns from 7 to 15 November 2025\, bringing nine days of exquisite classical music to venues across Bath including The Forum\, Guildhall\, St Mary’s\, Bathwick\, and Bath Abbey. Audiences can expect performances from world-renowned artists and ensembles such as The Hallé\, Nash Ensemble\, Tenebrae\, and new rising talent featured in BBC Radio 3 New Generation Artists. The programme mixes chamber music\, orchestral works\, solo recitals\, and thematic concerts in Bath’s beautiful historic settings.
URL:https://thisissouthwest.com/event/bath-mozartfest-2025/2025-11-13/
LOCATION:Bath\, Bath\, Somerset\, United Kingdom
CATEGORIES:Concert,Music
END:VEVENT
BEGIN:VEVENT
DTSTART;TZID=Europe/London:20251112T000000
DTEND;TZID=Europe/London:20251112T235959
DTSTAMP:20260425T050943
CREATED:20250829T102809Z
LAST-MODIFIED:20250915T135605Z
UID:10004572-1762905600-1762991999@thisissouthwest.com
SUMMARY:Bath Mozartfest 2025
DESCRIPTION:Bath Mozartfest returns from 7 to 15 November 2025\, bringing nine days of exquisite classical music to venues across Bath including The Forum\, Guildhall\, St Mary’s\, Bathwick\, and Bath Abbey. Audiences can expect performances from world-renowned artists and ensembles such as The Hallé\, Nash Ensemble\, Tenebrae\, and new rising talent featured in BBC Radio 3 New Generation Artists. The programme mixes chamber music\, orchestral works\, solo recitals\, and thematic concerts in Bath’s beautiful historic settings.
URL:https://thisissouthwest.com/event/bath-mozartfest-2025/2025-11-12/
LOCATION:Bath\, Bath\, Somerset\, United Kingdom
CATEGORIES:Concert,Music
END:VEVENT
BEGIN:VEVENT
DTSTART;TZID=Europe/London:20251111T000000
DTEND;TZID=Europe/London:20251111T235959
DTSTAMP:20260425T050943
CREATED:20250829T102809Z
LAST-MODIFIED:20250915T135605Z
UID:10004571-1762819200-1762905599@thisissouthwest.com
SUMMARY:Bath Mozartfest 2025
DESCRIPTION:Bath Mozartfest returns from 7 to 15 November 2025\, bringing nine days of exquisite classical music to venues across Bath including The Forum\, Guildhall\, St Mary’s\, Bathwick\, and Bath Abbey. Audiences can expect performances from world-renowned artists and ensembles such as The Hallé\, Nash Ensemble\, Tenebrae\, and new rising talent featured in BBC Radio 3 New Generation Artists. The programme mixes chamber music\, orchestral works\, solo recitals\, and thematic concerts in Bath’s beautiful historic settings.
URL:https://thisissouthwest.com/event/bath-mozartfest-2025/2025-11-11/
LOCATION:Bath\, Bath\, Somerset\, United Kingdom
CATEGORIES:Concert,Music
END:VEVENT
BEGIN:VEVENT
DTSTART;TZID=Europe/London:20251110T000000
DTEND;TZID=Europe/London:20251110T235959
DTSTAMP:20260425T050943
CREATED:20250829T102809Z
LAST-MODIFIED:20250915T135605Z
UID:10004570-1762732800-1762819199@thisissouthwest.com
SUMMARY:Bath Mozartfest 2025
DESCRIPTION:Bath Mozartfest returns from 7 to 15 November 2025\, bringing nine days of exquisite classical music to venues across Bath including The Forum\, Guildhall\, St Mary’s\, Bathwick\, and Bath Abbey. Audiences can expect performances from world-renowned artists and ensembles such as The Hallé\, Nash Ensemble\, Tenebrae\, and new rising talent featured in BBC Radio 3 New Generation Artists. The programme mixes chamber music\, orchestral works\, solo recitals\, and thematic concerts in Bath’s beautiful historic settings.
URL:https://thisissouthwest.com/event/bath-mozartfest-2025/2025-11-10/
LOCATION:Bath\, Bath\, Somerset\, United Kingdom
CATEGORIES:Concert,Music
END:VEVENT
BEGIN:VEVENT
DTSTART;TZID=Europe/London:20251109T000000
DTEND;TZID=Europe/London:20251109T235959
DTSTAMP:20260425T050943
CREATED:20250829T102809Z
LAST-MODIFIED:20250915T135605Z
UID:10004569-1762646400-1762732799@thisissouthwest.com
SUMMARY:Bath Mozartfest 2025
DESCRIPTION:Bath Mozartfest returns from 7 to 15 November 2025\, bringing nine days of exquisite classical music to venues across Bath including The Forum\, Guildhall\, St Mary’s\, Bathwick\, and Bath Abbey. Audiences can expect performances from world-renowned artists and ensembles such as The Hallé\, Nash Ensemble\, Tenebrae\, and new rising talent featured in BBC Radio 3 New Generation Artists. The programme mixes chamber music\, orchestral works\, solo recitals\, and thematic concerts in Bath’s beautiful historic settings.
URL:https://thisissouthwest.com/event/bath-mozartfest-2025/2025-11-09/
LOCATION:Bath\, Bath\, Somerset\, United Kingdom
CATEGORIES:Concert,Music
END:VEVENT
BEGIN:VEVENT
DTSTART;TZID=Europe/London:20251108T000000
DTEND;TZID=Europe/London:20251108T235959
DTSTAMP:20260425T050943
CREATED:20250829T102809Z
LAST-MODIFIED:20250915T135605Z
UID:10004568-1762560000-1762646399@thisissouthwest.com
SUMMARY:Bath Mozartfest 2025
DESCRIPTION:Bath Mozartfest returns from 7 to 15 November 2025\, bringing nine days of exquisite classical music to venues across Bath including The Forum\, Guildhall\, St Mary’s\, Bathwick\, and Bath Abbey. Audiences can expect performances from world-renowned artists and ensembles such as The Hallé\, Nash Ensemble\, Tenebrae\, and new rising talent featured in BBC Radio 3 New Generation Artists. The programme mixes chamber music\, orchestral works\, solo recitals\, and thematic concerts in Bath’s beautiful historic settings.
URL:https://thisissouthwest.com/event/bath-mozartfest-2025/2025-11-08/
LOCATION:Bath\, Bath\, Somerset\, United Kingdom
CATEGORIES:Concert,Music
END:VEVENT
BEGIN:VEVENT
DTSTART;TZID=Europe/London:20251107T000000
DTEND;TZID=Europe/London:20251107T235959
DTSTAMP:20260425T050943
CREATED:20250829T102809Z
LAST-MODIFIED:20250915T135605Z
UID:10000444-1762473600-1762559999@thisissouthwest.com
SUMMARY:Bath Mozartfest 2025
DESCRIPTION:Bath Mozartfest returns from 7 to 15 November 2025\, bringing nine days of exquisite classical music to venues across Bath including The Forum\, Guildhall\, St Mary’s\, Bathwick\, and Bath Abbey. Audiences can expect performances from world-renowned artists and ensembles such as The Hallé\, Nash Ensemble\, Tenebrae\, and new rising talent featured in BBC Radio 3 New Generation Artists. The programme mixes chamber music\, orchestral works\, solo recitals\, and thematic concerts in Bath’s beautiful historic settings.
URL:https://thisissouthwest.com/event/bath-mozartfest-2025/2025-11-07/
LOCATION:Bath\, Bath\, Somerset\, United Kingdom
CATEGORIES:Concert,Music
END:VEVENT
END:VCALENDAR