BEGIN:VCALENDAR
VERSION:2.0
PRODID:-//This Is South West - ECPv6.15.20//NONSGML v1.0//EN
CALSCALE:GREGORIAN
METHOD:PUBLISH
X-WR-CALNAME:This Is South West
X-ORIGINAL-URL:https://thisissouthwest.com
X-WR-CALDESC:Events for This Is South West
REFRESH-INTERVAL;VALUE=DURATION:PT1H
X-Robots-Tag:noindex
X-PUBLISHED-TTL:PT1H
BEGIN:VTIMEZONE
TZID:Europe/London
BEGIN:DAYLIGHT
TZOFFSETFROM:+0000
TZOFFSETTO:+0100
TZNAME:BST
DTSTART:20250330T010000
END:DAYLIGHT
BEGIN:STANDARD
TZOFFSETFROM:+0100
TZOFFSETTO:+0000
TZNAME:GMT
DTSTART:20251026T010000
END:STANDARD
BEGIN:DAYLIGHT
TZOFFSETFROM:+0000
TZOFFSETTO:+0100
TZNAME:BST
DTSTART:20260329T010000
END:DAYLIGHT
BEGIN:STANDARD
TZOFFSETFROM:+0100
TZOFFSETTO:+0000
TZNAME:GMT
DTSTART:20261025T010000
END:STANDARD
BEGIN:DAYLIGHT
TZOFFSETFROM:+0000
TZOFFSETTO:+0100
TZNAME:BST
DTSTART:20270328T010000
END:DAYLIGHT
BEGIN:STANDARD
TZOFFSETFROM:+0100
TZOFFSETTO:+0000
TZNAME:GMT
DTSTART:20271031T010000
END:STANDARD
END:VTIMEZONE
BEGIN:VEVENT
DTSTART;TZID=Europe/London:20260719T000000
DTEND;TZID=Europe/London:20260719T235959
DTSTAMP:20260425T050741
CREATED:20250829T102536Z
LAST-MODIFIED:20250915T082342Z
UID:10007092-1784419200-1784505599@thisissouthwest.com
SUMMARY:The Wild Gardens Festival (Port Eliot)
DESCRIPTION:The Wild Gardens Festival returns 16-19 July 2026 at Port Eliot Estate in Cornwall\, bringing together music\, wellness\, and outdoor experiences in one immersive weekend. The event features a main stage set in the gardens\, performances in the woods and quarry\, wellbeing sessions\, food & drink\, glamping & camping\, and a mix of global and UK acts. The site is a short walk from St Germans Train Station\, with caravan and campervan camping options\, and after-parties into the early hours.
URL:https://thisissouthwest.com/event/the-wild-gardens-festival-port-eliot/2026-07-19/
LOCATION:Port Eliot\, St Germans\, Cornwall
CATEGORIES:Festival
END:VEVENT
BEGIN:VEVENT
DTSTART;TZID=Europe/London:20260728T000000
DTEND;TZID=Europe/London:20260728T235959
DTSTAMP:20260425T050741
CREATED:20250829T102606Z
LAST-MODIFIED:20250915T082047Z
UID:10000429-1785196800-1785283199@thisissouthwest.com
SUMMARY:St Endellion Summer Music Festival 2026
DESCRIPTION:he St Endellion Summer Festival returns in 2026\, bringing a rich programme of classical music\, opera\, choral works\, chamber concerts\, late-night performances\, liturgical music\, and family-friendly events. For 2025\, the festival included Verdi’s Falstaff\, Vaughan Williams’ Sea Symphony\, Brahms\, Sibelius\, Wagner\, and special chamber/late night performances like Dido and Aeneas. The programme also includes contributions from rising artists\, Cornish musicians\, and spiritual musical settings in the historic St Endellion Church. Tickets go on sale mid-to-late summer; for 2026 the Friends & Patrons scheme is available.
URL:https://thisissouthwest.com/event/st-endellion-summer-music-festival-2026/2026-07-28/
LOCATION:St Endellion\, St Endellion\, Cornwall\, United Kingdom
CATEGORIES:Festival,Music
END:VEVENT
BEGIN:VEVENT
DTSTART;TZID=Europe/London:20260731T000000
DTEND;TZID=Europe/London:20260731T235959
DTSTAMP:20260425T050741
CREATED:20250829T102536Z
LAST-MODIFIED:20250915T081823Z
UID:10000418-1785456000-1785542399@thisissouthwest.com
SUMMARY:Sidmouth Folk Festival 2026
DESCRIPTION:The Sidmouth Folk Festival is a week-long seaside celebration of folk music\, dance\, song\, and tradition\, held annually since 1955 on the coast in East Devon. Big-name acts\, ceilidhs\, workshops\, storytelling\, spoken word\, display dance\, youth events and family-friendly programmes all combine to make this one of the UK’s major folk gatherings. It draws tens of thousands of visitors each August. Season tickets and 2026 tickets go on sale in December\, with “2025 prices” for early purchasers. The event also includes a Festival Campsite\, Craft & Music Village\, food & drink stalls\, and accessibility services.
URL:https://thisissouthwest.com/event/sidmouth-folk-festival-2026/2026-07-31/
LOCATION:Sidmouth\, Sidmouth\, Devon\, United Kingdom
CATEGORIES:Festival
END:VEVENT
BEGIN:VEVENT
DTSTART;TZID=Europe/London:20260805T000000
DTEND;TZID=Europe/London:20260805T235959
DTSTAMP:20260425T050741
CREATED:20250829T102536Z
LAST-MODIFIED:20250915T081358Z
UID:10000419-1785888000-1785974399@thisissouthwest.com
SUMMARY:Boardmasters Festival 2026
DESCRIPTION:Boardmasters returns 5-9 August 2026 with five days of music\, surf\, skate\, and beach culture on the Cornish coast. Tickets go on sale 13 August with Loyalty tickets\, followed by Early Bird tickets the next day. Multiple ticket types are available: camping for 5 days\, 4-day entries\, 3-day non-camping access\, VIP upgrades\, and child/teen rates. Payment plans allow spreading the cost over 11 months. Held in Newquay and Watergate Bay\, the festival offers a high-energy mix of live bands\, seaside battles\, skating ramps\, wellness spaces\, and a beach atmosphere.
URL:https://thisissouthwest.com/event/boardmasters-festival-2026/2026-08-05/
LOCATION:Newquay\, Newquay\, Cornwall\, United Kingdom
CATEGORIES:Festival
END:VEVENT
BEGIN:VEVENT
DTSTART;TZID=Europe/London:20260806T000000
DTEND;TZID=Europe/London:20260806T235959
DTSTAMP:20260425T050741
CREATED:20250829T102536Z
LAST-MODIFIED:20250915T081358Z
UID:10007072-1785974400-1786060799@thisissouthwest.com
SUMMARY:Boardmasters Festival 2026
DESCRIPTION:Boardmasters returns 5-9 August 2026 with five days of music\, surf\, skate\, and beach culture on the Cornish coast. Tickets go on sale 13 August with Loyalty tickets\, followed by Early Bird tickets the next day. Multiple ticket types are available: camping for 5 days\, 4-day entries\, 3-day non-camping access\, VIP upgrades\, and child/teen rates. Payment plans allow spreading the cost over 11 months. Held in Newquay and Watergate Bay\, the festival offers a high-energy mix of live bands\, seaside battles\, skating ramps\, wellness spaces\, and a beach atmosphere.
URL:https://thisissouthwest.com/event/boardmasters-festival-2026/2026-08-06/
LOCATION:Newquay\, Newquay\, Cornwall\, United Kingdom
CATEGORIES:Festival
END:VEVENT
BEGIN:VEVENT
DTSTART;TZID=Europe/London:20260807T000000
DTEND;TZID=Europe/London:20260807T235959
DTSTAMP:20260425T050741
CREATED:20250829T102536Z
LAST-MODIFIED:20250915T081358Z
UID:10007073-1786060800-1786147199@thisissouthwest.com
SUMMARY:Boardmasters Festival 2026
DESCRIPTION:Boardmasters returns 5-9 August 2026 with five days of music\, surf\, skate\, and beach culture on the Cornish coast. Tickets go on sale 13 August with Loyalty tickets\, followed by Early Bird tickets the next day. Multiple ticket types are available: camping for 5 days\, 4-day entries\, 3-day non-camping access\, VIP upgrades\, and child/teen rates. Payment plans allow spreading the cost over 11 months. Held in Newquay and Watergate Bay\, the festival offers a high-energy mix of live bands\, seaside battles\, skating ramps\, wellness spaces\, and a beach atmosphere.
URL:https://thisissouthwest.com/event/boardmasters-festival-2026/2026-08-07/
LOCATION:Newquay\, Newquay\, Cornwall\, United Kingdom
CATEGORIES:Festival
END:VEVENT
BEGIN:VEVENT
DTSTART;TZID=Europe/London:20260808T000000
DTEND;TZID=Europe/London:20260808T235959
DTSTAMP:20260425T050741
CREATED:20250829T102536Z
LAST-MODIFIED:20250915T081358Z
UID:10007074-1786147200-1786233599@thisissouthwest.com
SUMMARY:Boardmasters Festival 2026
DESCRIPTION:Boardmasters returns 5-9 August 2026 with five days of music\, surf\, skate\, and beach culture on the Cornish coast. Tickets go on sale 13 August with Loyalty tickets\, followed by Early Bird tickets the next day. Multiple ticket types are available: camping for 5 days\, 4-day entries\, 3-day non-camping access\, VIP upgrades\, and child/teen rates. Payment plans allow spreading the cost over 11 months. Held in Newquay and Watergate Bay\, the festival offers a high-energy mix of live bands\, seaside battles\, skating ramps\, wellness spaces\, and a beach atmosphere.
URL:https://thisissouthwest.com/event/boardmasters-festival-2026/2026-08-08/
LOCATION:Newquay\, Newquay\, Cornwall\, United Kingdom
CATEGORIES:Festival
END:VEVENT
BEGIN:VEVENT
DTSTART;TZID=Europe/London:20260809T000000
DTEND;TZID=Europe/London:20260809T235959
DTSTAMP:20260425T050741
CREATED:20250829T102536Z
LAST-MODIFIED:20250915T081358Z
UID:10007075-1786233600-1786319999@thisissouthwest.com
SUMMARY:Boardmasters Festival 2026
DESCRIPTION:Boardmasters returns 5-9 August 2026 with five days of music\, surf\, skate\, and beach culture on the Cornish coast. Tickets go on sale 13 August with Loyalty tickets\, followed by Early Bird tickets the next day. Multiple ticket types are available: camping for 5 days\, 4-day entries\, 3-day non-camping access\, VIP upgrades\, and child/teen rates. Payment plans allow spreading the cost over 11 months. Held in Newquay and Watergate Bay\, the festival offers a high-energy mix of live bands\, seaside battles\, skating ramps\, wellness spaces\, and a beach atmosphere.
URL:https://thisissouthwest.com/event/boardmasters-festival-2026/2026-08-09/
LOCATION:Newquay\, Newquay\, Cornwall\, United Kingdom
CATEGORIES:Festival
END:VEVENT
END:VCALENDAR