BEGIN:VCALENDAR
VERSION:2.0
PRODID:-//This Is South West - ECPv6.15.20//NONSGML v1.0//EN
CALSCALE:GREGORIAN
METHOD:PUBLISH
X-WR-CALNAME:This Is South West
X-ORIGINAL-URL:https://thisissouthwest.com
X-WR-CALDESC:Events for This Is South West
REFRESH-INTERVAL;VALUE=DURATION:PT1H
X-Robots-Tag:noindex
X-PUBLISHED-TTL:PT1H
BEGIN:VTIMEZONE
TZID:Europe/London
BEGIN:DAYLIGHT
TZOFFSETFROM:+0000
TZOFFSETTO:+0100
TZNAME:BST
DTSTART:20250330T010000
END:DAYLIGHT
BEGIN:STANDARD
TZOFFSETFROM:+0100
TZOFFSETTO:+0000
TZNAME:GMT
DTSTART:20251026T010000
END:STANDARD
BEGIN:DAYLIGHT
TZOFFSETFROM:+0000
TZOFFSETTO:+0100
TZNAME:BST
DTSTART:20260329T010000
END:DAYLIGHT
BEGIN:STANDARD
TZOFFSETFROM:+0100
TZOFFSETTO:+0000
TZNAME:GMT
DTSTART:20261025T010000
END:STANDARD
BEGIN:DAYLIGHT
TZOFFSETFROM:+0000
TZOFFSETTO:+0100
TZNAME:BST
DTSTART:20270328T010000
END:DAYLIGHT
BEGIN:STANDARD
TZOFFSETFROM:+0100
TZOFFSETTO:+0000
TZNAME:GMT
DTSTART:20271031T010000
END:STANDARD
END:VTIMEZONE
BEGIN:VEVENT
DTSTART;TZID=Europe/London:20260501T000000
DTEND;TZID=Europe/London:20260501T235959
DTSTAMP:20260425T012344
CREATED:20250829T114328Z
LAST-MODIFIED:20250915T083518Z
UID:10007083-1777593600-1777679999@thisissouthwest.com
SUMMARY:Teddy Rocks Festival
DESCRIPTION:Teddy Rocks is a three-day\, family-friendly music festival held at Charisworth Farm in Blandford\, Dorset\, with all profits supporting children’s cancer charities. The 2026 edition runs from 1 to 3 May\, featuring a lineup of tribute acts\, pop hits\, folk-and-acoustic stages\, comedy\, and activities for all ages. The event includes camping\, arena access\, VIP upgrades\, glamping\, and single-day tickets. Amenities include multiple stages (outdoor and indoor)\, food & drink vendors\, accessibility support\, and camping facilities.
URL:https://thisissouthwest.com/event/teddy-rocks-festival-2/2026-05-01/
LOCATION:Charisworth Farm\, Blandford Forum\, Dorset\, United Kingdom
CATEGORIES:Festival
END:VEVENT
BEGIN:VEVENT
DTSTART;TZID=Europe/London:20260502T000000
DTEND;TZID=Europe/London:20260502T235959
DTSTAMP:20260425T012344
CREATED:20250829T114328Z
LAST-MODIFIED:20250915T083518Z
UID:10007084-1777680000-1777766399@thisissouthwest.com
SUMMARY:Teddy Rocks Festival
DESCRIPTION:Teddy Rocks is a three-day\, family-friendly music festival held at Charisworth Farm in Blandford\, Dorset\, with all profits supporting children’s cancer charities. The 2026 edition runs from 1 to 3 May\, featuring a lineup of tribute acts\, pop hits\, folk-and-acoustic stages\, comedy\, and activities for all ages. The event includes camping\, arena access\, VIP upgrades\, glamping\, and single-day tickets. Amenities include multiple stages (outdoor and indoor)\, food & drink vendors\, accessibility support\, and camping facilities.
URL:https://thisissouthwest.com/event/teddy-rocks-festival-2/2026-05-02/
LOCATION:Charisworth Farm\, Blandford Forum\, Dorset\, United Kingdom
CATEGORIES:Festival
END:VEVENT
BEGIN:VEVENT
DTSTART;TZID=Europe/London:20260503T000000
DTEND;TZID=Europe/London:20260503T235959
DTSTAMP:20260425T012344
CREATED:20250829T102522Z
LAST-MODIFIED:20250915T083359Z
UID:10000414-1777766400-1777852799@thisissouthwest.com
SUMMARY:Salcombe Crabfest
DESCRIPTION:alcombe Crab Fest is an annual celebration of Devon’s seafood heritage\, usually held in August along the picturesque waterfront of Salcombe. Expect fresh crab platters\, seafood stalls\, live music\, children’s entertainment\, cooking demonstrations\, and local ales. Waterfront boardwalks fill with traders offering Dalek-fit crab dishes\, artisanal produce\, and ocean views\, making it a perfect seaside treat for food lovers and families alike.
URL:https://thisissouthwest.com/event/salcombe-crabfest/
LOCATION:Salcombe\, Salcombe\, Devon\, United Kingdom
CATEGORIES:Food & Drink
END:VEVENT
BEGIN:VEVENT
DTSTART;TZID=Europe/London:20260503T000000
DTEND;TZID=Europe/London:20260503T235959
DTSTAMP:20260425T012344
CREATED:20250829T114328Z
LAST-MODIFIED:20250915T083518Z
UID:10007085-1777766400-1777852799@thisissouthwest.com
SUMMARY:Teddy Rocks Festival
DESCRIPTION:Teddy Rocks is a three-day\, family-friendly music festival held at Charisworth Farm in Blandford\, Dorset\, with all profits supporting children’s cancer charities. The 2026 edition runs from 1 to 3 May\, featuring a lineup of tribute acts\, pop hits\, folk-and-acoustic stages\, comedy\, and activities for all ages. The event includes camping\, arena access\, VIP upgrades\, glamping\, and single-day tickets. Amenities include multiple stages (outdoor and indoor)\, food & drink vendors\, accessibility support\, and camping facilities.
URL:https://thisissouthwest.com/event/teddy-rocks-festival-2/2026-05-03/
LOCATION:Charisworth Farm\, Blandford Forum\, Dorset\, United Kingdom
CATEGORIES:Festival
END:VEVENT
BEGIN:VEVENT
DTSTART;TZID=Europe/London:20260509T093000
DTEND;TZID=Europe/London:20260509T150000
DTSTAMP:20260425T012344
CREATED:20260115T160406Z
LAST-MODIFIED:20260115T160406Z
UID:10009872-1778319000-1778338800@thisissouthwest.com
SUMMARY:Seaside Scramble 2026 – Dorset Charity 5K Obstacle Run
DESCRIPTION:Get ready to scramble\, climb\, crawl\, and laugh your way through 5K of pure fun! \nIntroducing Seaside Scramble – our new\, action-packed obstacle course inspired by the work of Dorset and Somerset Air Ambulance. \nSet against the stunning backdrop of Poole’s harbourside\, this event is designed for all ages and abilities. Whether you’re teaming up with family\, having a laugh with friends\, or rounding up your workmates for a team challenge\, Seaside Scramble is your perfect end-of-summer adventure. \nWith air ambulance-themed obstacles across an exciting two-lap course\, expect plenty of muddy knees\, big smiles\, and the chance to support a vital life-saving cause. \n💛 Why Take Part?\nDorset and Somerset Air Ambulance is a charity that receives no direct government funding. Each life-saving mission costs around £3\,500 – and your entry\, sponsorship\, and support can help fund the next one. \nWe hope every Scrambler will aim to raise £50 in sponsorship. Every step you take helps keep our critical care team in the skies. \nEntry Fees\n£20 Adult \n£12.50 Child \n£60 Family (2 adults + 2 children)
URL:https://thisissouthwest.com/event/seaside-scramble-2026-dorset-charity-5k-obstacle-run/
LOCATION:Baiter Park\, Poole\, BH15 1TQ
CATEGORIES:Sports & Activities
ATTACH;FMTTYPE=image/jpeg:https://thisissouthwest.com/wp-content/uploads/2026/01/Seaside-Scramble-2026-Website-Feature.jpg
ORGANIZER;CN="Dorset and Somerset Air Ambulance":MAILTO:info@dsairambulance.org.uk
END:VEVENT
BEGIN:VEVENT
DTSTART;TZID=Europe/London:20260522T190000
DTEND;TZID=Europe/London:20260525T213000
DTSTAMP:20260425T012344
CREATED:20260421T100242Z
LAST-MODIFIED:20260423T090829Z
UID:10009921-1779476400-1779744600@thisissouthwest.com
SUMMARY:English Music Festival 2026
DESCRIPTION:At: Dartington Hall\, Totnes\, Devon\, TQ9 6EL \nAfter nineteen years\, The English Music Festival (EMF) is embarking on an exciting new chapter as it prepares to delight audiences in the spectacular setting of Dartington Hall in Devon. Over four days\, from 22nd to 25th May\, world-class musicians will present masterpieces of English music in the beautiful Great Hall in a programme that promises to intrigue. \nThe EMF champions the brilliance\, beauty and rich heritage of English music\, with a particular focus on the Golden Renaissance (C19 – C20). Through its twenty years the EMF has staged world premieres by composers such as Elgar\, Delius\, Holst and Vaughan Williams\, as well as commissioning new works. \nMoving to Dartington Hall\, the EMF brings its mission to a wider audience. The fourteenth-century medieval estate provides a unique experience in an intimate\, historic atmosphere that audiences and artists value highly. For much of the twentieth century\, Dartington was a hub of musical and cultural activity\, and the EMF is delighted to be playing a part in renewing this tradition.
URL:https://thisissouthwest.com/event/english-music-festival-2026/
LOCATION:Dartington Hall\, Dartington\, TQ9 6EL\, United Kingdom
CATEGORIES:Arts,Concert,Festival,Music
ATTACH;FMTTYPE=image/png:https://thisissouthwest.com/wp-content/uploads/2026/04/Screenshot-2026-04-19-at-13.35.51.png
END:VEVENT
END:VCALENDAR