BEGIN:VCALENDAR
VERSION:2.0
PRODID:-//This Is South West - ECPv6.15.20//NONSGML v1.0//EN
CALSCALE:GREGORIAN
METHOD:PUBLISH
X-WR-CALNAME:This Is South West
X-ORIGINAL-URL:https://thisissouthwest.com
X-WR-CALDESC:Events for This Is South West
REFRESH-INTERVAL;VALUE=DURATION:PT1H
X-Robots-Tag:noindex
X-PUBLISHED-TTL:PT1H
BEGIN:VTIMEZONE
TZID:Europe/London
BEGIN:DAYLIGHT
TZOFFSETFROM:+0000
TZOFFSETTO:+0100
TZNAME:BST
DTSTART:20250330T010000
END:DAYLIGHT
BEGIN:STANDARD
TZOFFSETFROM:+0100
TZOFFSETTO:+0000
TZNAME:GMT
DTSTART:20251026T010000
END:STANDARD
BEGIN:DAYLIGHT
TZOFFSETFROM:+0000
TZOFFSETTO:+0100
TZNAME:BST
DTSTART:20260329T010000
END:DAYLIGHT
BEGIN:STANDARD
TZOFFSETFROM:+0100
TZOFFSETTO:+0000
TZNAME:GMT
DTSTART:20261025T010000
END:STANDARD
BEGIN:DAYLIGHT
TZOFFSETFROM:+0000
TZOFFSETTO:+0100
TZNAME:BST
DTSTART:20270328T010000
END:DAYLIGHT
BEGIN:STANDARD
TZOFFSETFROM:+0100
TZOFFSETTO:+0000
TZNAME:GMT
DTSTART:20271031T010000
END:STANDARD
END:VTIMEZONE
BEGIN:VEVENT
DTSTART;TZID=Europe/London:20260826T000000
DTEND;TZID=Europe/London:20260826T235959
DTSTAMP:20260425T045129
CREATED:20250829T102551Z
LAST-MODIFIED:20250915T080229Z
UID:10000424-1787702400-1787788799@thisissouthwest.com
SUMMARY:Dartmouth Royal Regatta 2026
DESCRIPTION:The Port of Dartmouth Royal Regatta returns from Thursday 27th to Saturday 29th August 2026\, with a Family Fun Weekend on 22–23 August and the Fireworks display set for Saturday 29th August at 9pm. One of the UK’s oldest rowing and sailing events (first recorded in 1822)\, the Regatta combines high-level competition—rowing\, dinghy\, pilot gig\, keelboat\, and yacht races—with riverside entertainment. Highlights include the iconic Regatta River Parade\, live music\, a raft race\, family-friendly activities onshore\, and a spectacular backdrop of the River Dart and South Hams coastline. The event is free to attend\, supported by public donations and sponsorship. \nDisclaimer: Event details are provided for general information & may change without notice. Please check with organisers before attending.
URL:https://thisissouthwest.com/event/dartmouth-royal-regatta-2026/2026-08-26/
LOCATION:Dartmouth\, Dartmouth\, Devon\, United Kingdom
CATEGORIES:Regatta
ATTACH;FMTTYPE=image/jpeg:https://thisissouthwest.com/wp-content/uploads/2025/08/WhatsAppImage2021-08-27at10.08.053-RBjl3W.jpg
END:VEVENT
BEGIN:VEVENT
DTSTART;TZID=Europe/London:20260827T000000
DTEND;TZID=Europe/London:20260827T235959
DTSTAMP:20260425T045129
CREATED:20250829T102551Z
LAST-MODIFIED:20250915T080229Z
UID:10006695-1787788800-1787875199@thisissouthwest.com
SUMMARY:Dartmouth Royal Regatta 2026
DESCRIPTION:The Port of Dartmouth Royal Regatta returns from Thursday 27th to Saturday 29th August 2026\, with a Family Fun Weekend on 22–23 August and the Fireworks display set for Saturday 29th August at 9pm. One of the UK’s oldest rowing and sailing events (first recorded in 1822)\, the Regatta combines high-level competition—rowing\, dinghy\, pilot gig\, keelboat\, and yacht races—with riverside entertainment. Highlights include the iconic Regatta River Parade\, live music\, a raft race\, family-friendly activities onshore\, and a spectacular backdrop of the River Dart and South Hams coastline. The event is free to attend\, supported by public donations and sponsorship. \nDisclaimer: Event details are provided for general information & may change without notice. Please check with organisers before attending.
URL:https://thisissouthwest.com/event/dartmouth-royal-regatta-2026/2026-08-27/
LOCATION:Dartmouth\, Dartmouth\, Devon\, United Kingdom
CATEGORIES:Regatta
ATTACH;FMTTYPE=image/jpeg:https://thisissouthwest.com/wp-content/uploads/2025/08/WhatsAppImage2021-08-27at10.08.053-RBjl3W.jpg
END:VEVENT
BEGIN:VEVENT
DTSTART;TZID=Europe/London:20260828T000000
DTEND;TZID=Europe/London:20260828T235959
DTSTAMP:20260425T045129
CREATED:20250829T102551Z
LAST-MODIFIED:20250915T080229Z
UID:10006696-1787875200-1787961599@thisissouthwest.com
SUMMARY:Dartmouth Royal Regatta 2026
DESCRIPTION:The Port of Dartmouth Royal Regatta returns from Thursday 27th to Saturday 29th August 2026\, with a Family Fun Weekend on 22–23 August and the Fireworks display set for Saturday 29th August at 9pm. One of the UK’s oldest rowing and sailing events (first recorded in 1822)\, the Regatta combines high-level competition—rowing\, dinghy\, pilot gig\, keelboat\, and yacht races—with riverside entertainment. Highlights include the iconic Regatta River Parade\, live music\, a raft race\, family-friendly activities onshore\, and a spectacular backdrop of the River Dart and South Hams coastline. The event is free to attend\, supported by public donations and sponsorship. \nDisclaimer: Event details are provided for general information & may change without notice. Please check with organisers before attending.
URL:https://thisissouthwest.com/event/dartmouth-royal-regatta-2026/2026-08-28/
LOCATION:Dartmouth\, Dartmouth\, Devon\, United Kingdom
CATEGORIES:Regatta
ATTACH;FMTTYPE=image/jpeg:https://thisissouthwest.com/wp-content/uploads/2025/08/WhatsAppImage2021-08-27at10.08.053-RBjl3W.jpg
END:VEVENT
BEGIN:VEVENT
DTSTART;TZID=Europe/London:20260829T000000
DTEND;TZID=Europe/London:20260829T235959
DTSTAMP:20260425T045129
CREATED:20250829T102551Z
LAST-MODIFIED:20250915T080229Z
UID:10006697-1787961600-1788047999@thisissouthwest.com
SUMMARY:Dartmouth Royal Regatta 2026
DESCRIPTION:The Port of Dartmouth Royal Regatta returns from Thursday 27th to Saturday 29th August 2026\, with a Family Fun Weekend on 22–23 August and the Fireworks display set for Saturday 29th August at 9pm. One of the UK’s oldest rowing and sailing events (first recorded in 1822)\, the Regatta combines high-level competition—rowing\, dinghy\, pilot gig\, keelboat\, and yacht races—with riverside entertainment. Highlights include the iconic Regatta River Parade\, live music\, a raft race\, family-friendly activities onshore\, and a spectacular backdrop of the River Dart and South Hams coastline. The event is free to attend\, supported by public donations and sponsorship. \nDisclaimer: Event details are provided for general information & may change without notice. Please check with organisers before attending.
URL:https://thisissouthwest.com/event/dartmouth-royal-regatta-2026/2026-08-29/
LOCATION:Dartmouth\, Dartmouth\, Devon\, United Kingdom
CATEGORIES:Regatta
ATTACH;FMTTYPE=image/jpeg:https://thisissouthwest.com/wp-content/uploads/2025/08/WhatsAppImage2021-08-27at10.08.053-RBjl3W.jpg
END:VEVENT
END:VCALENDAR