BEGIN:VCALENDAR
VERSION:2.0
PRODID:-//This Is South West - ECPv6.15.20//NONSGML v1.0//EN
CALSCALE:GREGORIAN
METHOD:PUBLISH
X-WR-CALNAME:This Is South West
X-ORIGINAL-URL:https://thisissouthwest.com
X-WR-CALDESC:Events for This Is South West
REFRESH-INTERVAL;VALUE=DURATION:PT1H
X-Robots-Tag:noindex
X-PUBLISHED-TTL:PT1H
BEGIN:VTIMEZONE
TZID:Europe/London
BEGIN:DAYLIGHT
TZOFFSETFROM:+0000
TZOFFSETTO:+0100
TZNAME:BST
DTSTART:20250330T010000
END:DAYLIGHT
BEGIN:STANDARD
TZOFFSETFROM:+0100
TZOFFSETTO:+0000
TZNAME:GMT
DTSTART:20251026T010000
END:STANDARD
BEGIN:DAYLIGHT
TZOFFSETFROM:+0000
TZOFFSETTO:+0100
TZNAME:BST
DTSTART:20260329T010000
END:DAYLIGHT
BEGIN:STANDARD
TZOFFSETFROM:+0100
TZOFFSETTO:+0000
TZNAME:GMT
DTSTART:20261025T010000
END:STANDARD
BEGIN:DAYLIGHT
TZOFFSETFROM:+0000
TZOFFSETTO:+0100
TZNAME:BST
DTSTART:20270328T010000
END:DAYLIGHT
BEGIN:STANDARD
TZOFFSETFROM:+0100
TZOFFSETTO:+0000
TZNAME:GMT
DTSTART:20271031T010000
END:STANDARD
END:VTIMEZONE
BEGIN:VEVENT
DTSTART;TZID=Europe/London:20260821T000000
DTEND;TZID=Europe/London:20260821T235959
DTSTAMP:20260425T031811
CREATED:20250829T102552Z
LAST-MODIFIED:20250915T081512Z
UID:10000425-1787270400-1787356799@thisissouthwest.com
SUMMARY:Torbay Royal Regatta 2026
DESCRIPTION:From Friday 21 to Monday 24 August 2026\, the Royal Torbay Yacht Club will host the Torbay Royal Regatta\, a major sailing and championships event in the heart of the English Riviera. Races will be held on the water off Torquay\, with competitors battling in multiple classes. The venue is the Royal Torbay Yacht Club on Beacon Terrace\, Torquay (postcode TQ1 2BH)\, providing public viewing points along the waterfront and family-friendly facilities ashore. Spectators can expect high-calibre racing\, yacht displays\, food & drink stalls\, and vibrant marine atmosphere. \nDisclaimer: Event details are provided for general information & may change without notice. Please check with organisers before attending.
URL:https://thisissouthwest.com/event/torbay-royal-regatta-2026/2026-08-21/
LOCATION:Torbay\, Torbay\, Devon\, United Kingdom
CATEGORIES:Regatta
END:VEVENT
BEGIN:VEVENT
DTSTART;TZID=Europe/London:20260822T000000
DTEND;TZID=Europe/London:20260822T235959
DTSTAMP:20260425T031811
CREATED:20250829T102552Z
LAST-MODIFIED:20250915T081512Z
UID:10008457-1787356800-1787443199@thisissouthwest.com
SUMMARY:Torbay Royal Regatta 2026
DESCRIPTION:From Friday 21 to Monday 24 August 2026\, the Royal Torbay Yacht Club will host the Torbay Royal Regatta\, a major sailing and championships event in the heart of the English Riviera. Races will be held on the water off Torquay\, with competitors battling in multiple classes. The venue is the Royal Torbay Yacht Club on Beacon Terrace\, Torquay (postcode TQ1 2BH)\, providing public viewing points along the waterfront and family-friendly facilities ashore. Spectators can expect high-calibre racing\, yacht displays\, food & drink stalls\, and vibrant marine atmosphere. \nDisclaimer: Event details are provided for general information & may change without notice. Please check with organisers before attending.
URL:https://thisissouthwest.com/event/torbay-royal-regatta-2026/2026-08-22/
LOCATION:Torbay\, Torbay\, Devon\, United Kingdom
CATEGORIES:Regatta
END:VEVENT
BEGIN:VEVENT
DTSTART;TZID=Europe/London:20260823T000000
DTEND;TZID=Europe/London:20260823T235959
DTSTAMP:20260425T031811
CREATED:20250829T102552Z
LAST-MODIFIED:20250915T081512Z
UID:10008458-1787443200-1787529599@thisissouthwest.com
SUMMARY:Torbay Royal Regatta 2026
DESCRIPTION:From Friday 21 to Monday 24 August 2026\, the Royal Torbay Yacht Club will host the Torbay Royal Regatta\, a major sailing and championships event in the heart of the English Riviera. Races will be held on the water off Torquay\, with competitors battling in multiple classes. The venue is the Royal Torbay Yacht Club on Beacon Terrace\, Torquay (postcode TQ1 2BH)\, providing public viewing points along the waterfront and family-friendly facilities ashore. Spectators can expect high-calibre racing\, yacht displays\, food & drink stalls\, and vibrant marine atmosphere. \nDisclaimer: Event details are provided for general information & may change without notice. Please check with organisers before attending.
URL:https://thisissouthwest.com/event/torbay-royal-regatta-2026/2026-08-23/
LOCATION:Torbay\, Torbay\, Devon\, United Kingdom
CATEGORIES:Regatta
END:VEVENT
BEGIN:VEVENT
DTSTART;TZID=Europe/London:20260824T000000
DTEND;TZID=Europe/London:20260824T235959
DTSTAMP:20260425T031811
CREATED:20250829T102552Z
LAST-MODIFIED:20250915T081512Z
UID:10008459-1787529600-1787615999@thisissouthwest.com
SUMMARY:Torbay Royal Regatta 2026
DESCRIPTION:From Friday 21 to Monday 24 August 2026\, the Royal Torbay Yacht Club will host the Torbay Royal Regatta\, a major sailing and championships event in the heart of the English Riviera. Races will be held on the water off Torquay\, with competitors battling in multiple classes. The venue is the Royal Torbay Yacht Club on Beacon Terrace\, Torquay (postcode TQ1 2BH)\, providing public viewing points along the waterfront and family-friendly facilities ashore. Spectators can expect high-calibre racing\, yacht displays\, food & drink stalls\, and vibrant marine atmosphere. \nDisclaimer: Event details are provided for general information & may change without notice. Please check with organisers before attending.
URL:https://thisissouthwest.com/event/torbay-royal-regatta-2026/2026-08-24/
LOCATION:Torbay\, Torbay\, Devon\, United Kingdom
CATEGORIES:Regatta
END:VEVENT
END:VCALENDAR