BEGIN:VCALENDAR
VERSION:2.0
PRODID:-//This Is South West - ECPv6.15.20//NONSGML v1.0//EN
CALSCALE:GREGORIAN
METHOD:PUBLISH
X-ORIGINAL-URL:https://thisissouthwest.com
X-WR-CALDESC:Events for This Is South West
REFRESH-INTERVAL;VALUE=DURATION:PT1H
X-Robots-Tag:noindex
X-PUBLISHED-TTL:PT1H
BEGIN:VTIMEZONE
TZID:Europe/London
BEGIN:DAYLIGHT
TZOFFSETFROM:+0000
TZOFFSETTO:+0100
TZNAME:BST
DTSTART:20250330T010000
END:DAYLIGHT
BEGIN:STANDARD
TZOFFSETFROM:+0100
TZOFFSETTO:+0000
TZNAME:GMT
DTSTART:20251026T010000
END:STANDARD
BEGIN:DAYLIGHT
TZOFFSETFROM:+0000
TZOFFSETTO:+0100
TZNAME:BST
DTSTART:20260329T010000
END:DAYLIGHT
BEGIN:STANDARD
TZOFFSETFROM:+0100
TZOFFSETTO:+0000
TZNAME:GMT
DTSTART:20261025T010000
END:STANDARD
BEGIN:DAYLIGHT
TZOFFSETFROM:+0000
TZOFFSETTO:+0100
TZNAME:BST
DTSTART:20270328T010000
END:DAYLIGHT
BEGIN:STANDARD
TZOFFSETFROM:+0100
TZOFFSETTO:+0000
TZNAME:GMT
DTSTART:20271031T010000
END:STANDARD
END:VTIMEZONE
BEGIN:VEVENT
DTSTART;TZID=Europe/London:20260612T000000
DTEND;TZID=Europe/London:20260612T235959
DTSTAMP:20260425T000334
CREATED:20250829T102523Z
LAST-MODIFIED:20250915T082552Z
UID:10000416-1781222400-1781308799@thisissouthwest.com
SUMMARY:Falmouth International Sea Shanty Festival
DESCRIPTION:The Falmouth International Sea Shanty Festival returns from Friday 12 to Sunday 14 June 2026\, celebrating maritime heritage with over eighty shanty-groups from around the UK\, Europe\, and further abroad. The festival is entirely free to attend\, with performances taking place at multiple sites including quayside venues throughout Falmouth. Alongside the shanties\, this edition again coincides with Falmouth Classics\, a three-day classic boat regatta on the water\, adding to the festival’s nautical atmosphere. Sustainability is a priority\, with reusable cups\, enhanced recycling points\, and sponsor programmes dedicated to green practices.
URL:https://thisissouthwest.com/event/falmouth-international-sea-shanty-festival/2026-06-12/
LOCATION:Falmouth\, Falmouth\, Cornwall\, United Kingdom
CATEGORIES:Festival,Music
END:VEVENT
END:VCALENDAR